BEGIN:VCALENDAR
VERSION:2.0
PRODID:DPCALENDAR
CALSCALE:GREGORIAN
BEGIN:VTIMEZONE
TZID:America/Sao_Paulo
X-MICROSOFT-CDO-TZID:8
END:VTIMEZONE
X-WR-TIMEZONE:America/Sao_Paulo
BEGIN:VEVENT
DTSTART;TZID=America/Sao_Paulo:20210919T120000
DTEND;TZID=America/Sao_Paulo:20210921T120000
UID:0A3C5BAC-9834-418E-ABBE-65B1DD848DD6
SUMMARY:Yuri Machado participa do IPO Annual Meeting 2021 em Austin, Texas (EUA)
CREATED:20210823T184452Z
DTSTAMP:20210823T184452Z
DESCRIPTION:
X-ALT-DESC;FMTTYPE=text/html:
X-ACCESS:1
X-HITS:565
X-URL:https://www.montaury.com.br/index.php?option=com_dpcalendar&view=event&id=73&Itemid=201
X-COLOR:3366cc
X-SHOW-END-TIME:1
END:VEVENT
BEGIN:VEVENT
DTSTART;TZID=America/Sao_Paulo:20211028T120000
DTEND;TZID=America/Sao_Paulo:20211029T120000
UID:CC9A7450-CD15-423A-A44C-B9A52A117AA7
SUMMARY:Yuri Machado participa do AIPLA Annual Meeting 2021 em National Harbor, Maryland (EUA) 
CREATED:20210823T184744Z
DTSTAMP:20210823T184744Z
DESCRIPTION:
X-ALT-DESC;FMTTYPE=text/html:
X-ACCESS:1
X-HITS:880
X-URL:https://www.montaury.com.br/index.php?option=com_dpcalendar&view=event&id=74&Itemid=201
X-COLOR:3366cc
X-SHOW-END-TIME:1
END:VEVENT
BEGIN:VEVENT
DTSTART;TZID=America/Sao_Paulo:20220427T100000
DTEND;TZID=America/Sao_Paulo:20220429T180000
UID:BFB9B3AD-0611-48E8-87EF-906151159FF2
SUMMARY:Yuri Machado e Ana Paula Brito participam do IACC Annual Conference 2022 em Washington DC (EUA)
CREATED:20220408T184452Z
DTSTAMP:20220408T184452Z
DESCRIPTION:
X-ALT-DESC;FMTTYPE=text/html:
X-ACCESS:1
X-HITS:381
X-URL:https://www.montaury.com.br/index.php?option=com_dpcalendar&view=event&id=75&Itemid=201
X-COLOR:3366cc
X-SHOW-END-TIME:1
END:VEVENT
BEGIN:VEVENT
DTSTART;TZID=America/Sao_Paulo:20220430T100000
DTEND;TZID=America/Sao_Paulo:20220505T180000
UID:0A03A5ED-5C38-47C7-9A2B-769726EBD4F2
SUMMARY:Eduardo Machado, Joana Siqueira, Yuri Machado, Clarissa Jaegger, Luiz Edgard Montaury Pimenta e Rhuan Quintanilha participam do INTA Annual Meeting 2022 em Washington DC (EUA)
CREATED:20220408T184452Z
DTSTAMP:20220408T184452Z
DESCRIPTION:
X-ALT-DESC;FMTTYPE=text/html:
X-ACCESS:1
X-HITS:432
X-URL:https://www.montaury.com.br/index.php?option=com_dpcalendar&view=event&id=76&Itemid=201
X-COLOR:3366cc
X-SHOW-END-TIME:1
END:VEVENT
BEGIN:VEVENT
DTSTART;TZID=America/Sao_Paulo:20220511T100000
DTEND;TZID=America/Sao_Paulo:20220512T180000
UID:D93A427A-0ABC-4C34-9C9E-5E5AC53A807A
SUMMARY:Gabriela Salerno participa do Life Sciences Patent Network North America 2022 em Boston, MA (EUA)
CREATED:20220408T184452Z
DTSTAMP:20220408T184452Z
DESCRIPTION:
X-ALT-DESC;FMTTYPE=text/html:
X-ACCESS:1
X-HITS:422
X-URL:https://www.montaury.com.br/index.php?option=com_dpcalendar&view=event&id=77&Itemid=201
X-COLOR:3366cc
X-SHOW-END-TIME:1
END:VEVENT
BEGIN:VEVENT
DTSTART;TZID=America/Sao_Paulo:20220525T100000
DTEND;TZID=America/Sao_Paulo:20220527T180000
UID:B5A21DEB-695C-4F25-9F58-826F3B2EEA38
SUMMARY:Marianna Furtado de Mendonça participa do Itechlaw - World Technology Law Conference em San Francisco, CA (EUA)
CREATED:20220408T184452Z
DTSTAMP:20220408T184452Z
DESCRIPTION:
X-ALT-DESC;FMTTYPE=text/html:
X-ACCESS:1
X-HITS:570
X-URL:https://www.montaury.com.br/index.php?option=com_dpcalendar&view=event&id=78&Itemid=201
X-COLOR:3366cc
X-SHOW-END-TIME:1
END:VEVENT
BEGIN:VEVENT
DTSTART;TZID=America/Sao_Paulo:20230302T100000
DTEND;TZID=America/Sao_Paulo:20230303T180000
UID:7BB43F72-0BFB-46E7-8542-8B518381E4F9
SUMMARY:Eduardo Machado participa do MARQUES Spring Team Meeting em Frankfurt (Alemanha)
CREATED:20230227T184452Z
DTSTAMP:20230227T184452Z
DESCRIPTION:
X-ALT-DESC;FMTTYPE=text/html:
LAST-MODIFIED:20230227T134633Z
SEQUENCE:-17899
X-ACCESS:1
X-HITS:284
X-URL:https://www.montaury.com.br/index.php?option=com_dpcalendar&view=event&id=79&Itemid=201
X-COLOR:3366cc
X-SHOW-END-TIME:1
END:VEVENT
BEGIN:VEVENT
DTSTART;TZID=America/Sao_Paulo:20230316T100000
DTEND;TZID=America/Sao_Paulo:20230319T180000
UID:214F668D-9714-4928-B9A5-678359BFAE78
SUMMARY:Diana participa do ABAPISUL XVIII Encontro Regional em Gramado, RS (Brasil)
CREATED:20230227T184452Z
DTSTAMP:20230227T184452Z
DESCRIPTION:
X-ALT-DESC;FMTTYPE=text/html:
LAST-MODIFIED:20230227T134633Z
SEQUENCE:-17899
X-ACCESS:1
X-HITS:326
X-URL:https://www.montaury.com.br/index.php?option=com_dpcalendar&view=event&id=80&Itemid=201
X-COLOR:3366cc
X-SHOW-END-TIME:1
END:VEVENT
BEGIN:VEVENT
DTSTART;TZID=America/Sao_Paulo:20230320T100000
DTEND;TZID=America/Sao_Paulo:20230321T180000
UID:F5A4CE7D-BA78-4602-86EA-CD1344200980
SUMMARY:Eduardo Machado participa do PTMG Spring Conference em Brighton (UK)
CREATED:20230227T184452Z
DTSTAMP:20230227T184452Z
DESCRIPTION:
X-ALT-DESC;FMTTYPE=text/html:
LAST-MODIFIED:20230227T134633Z
SEQUENCE:-17899
X-ACCESS:1
X-HITS:285
X-URL:https://www.montaury.com.br/index.php?option=com_dpcalendar&view=event&id=81&Itemid=201
X-COLOR:3366cc
X-SHOW-END-TIME:1
END:VEVENT
BEGIN:VEVENT
DTSTART;TZID=America/Sao_Paulo:20230320T100000
DTEND;TZID=America/Sao_Paulo:20230322T180000
UID:FE5518D5-96E6-4B50-8603-E5A1503BD3FB
SUMMARY:Ricardo, David, Luana e Luiz Edgard participam do ASPI - XXII Congresso Internacional em São Paulo, SP (Brasil)
CREATED:20230227T184452Z
DTSTAMP:20230227T184452Z
DESCRIPTION:
X-ALT-DESC;FMTTYPE=text/html:
LAST-MODIFIED:20230227T135350Z
SEQUENCE:-17462
X-ACCESS:1
X-HITS:326
X-URL:https://www.montaury.com.br/index.php?option=com_dpcalendar&view=event&id=82&Itemid=201
X-COLOR:3366cc
X-SHOW-END-TIME:1
END:VEVENT
BEGIN:VEVENT
DTSTART;TZID=America/Sao_Paulo:20230322T100000
DTEND;TZID=America/Sao_Paulo:20230323T180000
UID:1E33CC1A-A1CD-4E99-A335-86058D209732
SUMMARY:Joana e Yury participam do INTA Conference: The business of data em New York, NY (USA)
CREATED:20230227T184452Z
DTSTAMP:20230227T184452Z
DESCRIPTION:
X-ALT-DESC;FMTTYPE=text/html:
LAST-MODIFIED:20230227T135759Z
SEQUENCE:-17213
X-ACCESS:1
X-HITS:299
X-URL:https://www.montaury.com.br/index.php?option=com_dpcalendar&view=event&id=83&Itemid=201
X-COLOR:3366cc
X-SHOW-END-TIME:1
END:VEVENT
BEGIN:VEVENT
DTSTART;TZID=America/Sao_Paulo:20230412T100000
DTEND;TZID=America/Sao_Paulo:20230414T180000
UID:7D5C4405-DD7A-42F1-8C8D-4CFA029C0CD7
SUMMARY:Yury participa do ABA-IPL Section Annual Meeting (IPLSPRING) em Washington-DC (USA)
CREATED:20230327T184452Z
DTSTAMP:20230327T184452Z
DESCRIPTION:
X-ALT-DESC;FMTTYPE=text/html:
LAST-MODIFIED:20230327T135852Z
SEQUENCE:-17160
X-ACCESS:1
X-HITS:311
X-URL:https://www.montaury.com.br/index.php?option=com_dpcalendar&view=event&id=84&Itemid=201
X-COLOR:3366cc
X-SHOW-END-TIME:1
END:VEVENT
BEGIN:VEVENT
DTSTART;TZID=America/Sao_Paulo:20230516T100000
DTEND;TZID=America/Sao_Paulo:20230520T180000
UID:B0DDFADE-1AB4-4D52-938F-4397AFC88360
SUMMARY:Luiz Edgard Montaury, Eduardo Machado, Joana Siqueira, Clarissa Jaegger e Claudia Zeraik participam do INTA Annual Meeting em Singapura
CREATED:20230327T184452Z
DTSTAMP:20230327T184452Z
DESCRIPTION:
X-ALT-DESC;FMTTYPE=text/html:
LAST-MODIFIED:20230425T173109Z
SEQUENCE:2501177
X-ACCESS:1
X-HITS:330
X-URL:https://www.montaury.com.br/index.php?option=com_dpcalendar&view=event&id=85&Itemid=201
X-COLOR:3366cc
X-SHOW-END-TIME:1
END:VEVENT
BEGIN:VEVENT
DTSTART;TZID=America/Sao_Paulo:20230604T100000
DTEND;TZID=America/Sao_Paulo:20230606T180000
UID:31382D9D-579E-4BEB-B969-8D108AB4C023
SUMMARY:Joana Siqueira participa do Seminário ASIPI em Quito
CREATED:20230524T184452Z
DTSTAMP:20230524T184452Z
DESCRIPTION:
X-ALT-DESC;FMTTYPE=text/html:
LAST-MODIFIED:20230425T173109Z
SEQUENCE:-2510023
X-ACCESS:1
X-HITS:307
X-URL:https://www.montaury.com.br/index.php?option=com_dpcalendar&view=event&id=86&Itemid=201
X-COLOR:3366cc
X-SHOW-END-TIME:1
END:VEVENT
BEGIN:VEVENT
DTSTART;TZID=America/Sao_Paulo:20230605T100000
DTEND;TZID=America/Sao_Paulo:20230608T180000
UID:230789A0-972A-4371-AFE2-59875905835B
SUMMARY:Gabriela Salerno e Mônica Gurvitz participam da BIO International Convention em Boston - MA
CREATED:20230524T184452Z
DTSTAMP:20230524T184452Z
DESCRIPTION:
X-ALT-DESC;FMTTYPE=text/html:
LAST-MODIFIED:20230524T130751Z
SEQUENCE:-20221
X-ACCESS:1
X-HITS:306
X-URL:https://www.montaury.com.br/index.php?option=com_dpcalendar&view=event&id=87&Itemid=201
X-COLOR:3366cc
X-SHOW-END-TIME:1
END:VEVENT
BEGIN:VEVENT
DTSTART;TZID=America/Sao_Paulo:20230627T100000
DTEND;TZID=America/Sao_Paulo:20230627T180000
UID:A3A90CF1-3691-4AD6-89BE-BE4DE24B9B99
SUMMARY:Ricardo Vieira de Mello participa do ExpoGestão em Joinville-SC
CREATED:20230615T184452Z
DTSTAMP:20230615T184452Z
DESCRIPTION:
X-ALT-DESC;FMTTYPE=text/html:
LAST-MODIFIED:20230524T130751Z
SEQUENCE:-1921021
X-ACCESS:1
X-HITS:238
X-URL:https://www.montaury.com.br/index.php?option=com_dpcalendar&view=event&id=89&Itemid=201
X-COLOR:3366cc
X-SHOW-END-TIME:1
END:VEVENT
BEGIN:VEVENT
DTSTART;TZID=America/Sao_Paulo:20230628T100000
DTEND;TZID=America/Sao_Paulo:20230701T180000
UID:91B7C5C1-3ECD-4E5E-9CC4-4505E129B23B
SUMMARY:Joana Siqueira e Roberto Vieira de Mello participam da ECTA 41th Annual Conference em Prague
CREATED:20230524T184452Z
DTSTAMP:20230524T184452Z
DESCRIPTION:
X-ALT-DESC;FMTTYPE=text/html:
LAST-MODIFIED:20230524T130751Z
SEQUENCE:-20221
X-ACCESS:1
X-HITS:358
X-URL:https://www.montaury.com.br/index.php?option=com_dpcalendar&view=event&id=88&Itemid=201
X-COLOR:3366cc
X-SHOW-END-TIME:1
END:VEVENT
BEGIN:VEVENT
DTSTART;TZID=America/Sao_Paulo:20230718T100000
DTEND;TZID=America/Sao_Paulo:20230718T180000
UID:D53BC231-3419-4779-BE5F-C66509536618
SUMMARY:Ricardo Vieira de Mello, Rhuan Quintanillha e Luiz Edgard Montaury Pimenta participam da Palestra: Como proteger sua inovação e valorizar seu maior ativo. Case de Sucesso: Termotécnica em Joinville-SC
CREATED:20230615T184452Z
DTSTAMP:20230615T184452Z
DESCRIPTION:
X-ALT-DESC;FMTTYPE=text/html:
LAST-MODIFIED:20230524T130751Z
SEQUENCE:-1921021
X-ACCESS:1
X-HITS:358
X-URL:https://www.montaury.com.br/index.php?option=com_dpcalendar&view=event&id=90&Itemid=201
X-COLOR:3366cc
X-SHOW-END-TIME:1
END:VEVENT
BEGIN:VEVENT
DTSTART;TZID=America/Sao_Paulo:20230817T080000
DTEND;TZID=America/Sao_Paulo:20230817T140000
UID:CCAE99C0-DD0C-4BF7-AE55-1F44DB1EC64C
SUMMARY:Clarissa Jaegger participa do AAAPI XXXVII Jornadas Anuales de Propiedad Industrial em Buenos Aires
CREATED:20230724T184452Z
DTSTAMP:20230724T184452Z
DESCRIPTION:
X-ALT-DESC;FMTTYPE=text/html:
LAST-MODIFIED:20230724T202151Z
SEQUENCE:5819
X-ACCESS:1
X-HITS:357
X-URL:https://www.montaury.com.br/index.php?option=com_dpcalendar&view=event&id=91&Itemid=201
X-COLOR:3366cc
X-SHOW-END-TIME:1
END:VEVENT
BEGIN:VEVENT
DTSTART;TZID=America/Sao_Paulo:20230820T080000
DTEND;TZID=America/Sao_Paulo:20230822T120000
UID:7FF915F2-033A-41F9-9BD2-B7C135522B3A
SUMMARY:Ana Paula Brito, Clarissa Jaegger, Gabriela Salerno, Joana Siqueira, Luiz Edgard Montaury Pimenta, Maria Eduarda Junqueira, Ricardo Vieira de Mello, Rhuan Quintanillha, Pablo Torquato e Claudia Zeraik participam do ABPI - 43º Congresso Internacional 
CREATED:20230724T184452Z
DTSTAMP:20230724T184452Z
DESCRIPTION:
X-ALT-DESC;FMTTYPE=text/html:
LAST-MODIFIED:20230724T202913Z
SEQUENCE:6261
X-ACCESS:1
X-HITS:454
X-URL:https://www.montaury.com.br/index.php?option=com_dpcalendar&view=event&id=92&Itemid=201
X-COLOR:3366cc
X-SHOW-END-TIME:1
END:VEVENT
BEGIN:VEVENT
DTSTART;TZID=America/Sao_Paulo:20230821T080000
DTEND;TZID=America/Sao_Paulo:20230826T160000
UID:816B0FA8-A4D6-4415-8D6A-F02FA1FE5B32
SUMMARY:Luana Muniz de Barros participa do AIJA 61th Congress em Rio de Janeiro
CREATED:20230724T184452Z
DTSTAMP:20230724T184452Z
DESCRIPTION:
X-ALT-DESC;FMTTYPE=text/html:
LAST-MODIFIED:20230724T203223Z
SEQUENCE:6451
X-ACCESS:1
X-HITS:230
X-URL:https://www.montaury.com.br/index.php?option=com_dpcalendar&view=event&id=93&Itemid=201
X-COLOR:3366cc
X-SHOW-END-TIME:1
END:VEVENT
BEGIN:VEVENT
DTSTART;TZID=America/Sao_Paulo:20230910T080000
DTEND;TZID=America/Sao_Paulo:20230912T160000
UID:BCE0AF2A-00C2-4CC5-84C9-3BCA7465DB0D
SUMMARY:Luiz Edgard Montaury Pimenta, Roberto Vieira de Mello e Gabriela Salerno participam do IPO Annual Meeting em Boston, MA (USA)
CREATED:20230815T184452Z
DTSTAMP:20230815T184452Z
DESCRIPTION:
X-ALT-DESC;FMTTYPE=text/html:
LAST-MODIFIED:20230724T203223Z
SEQUENCE:-1894349
X-ACCESS:1
X-HITS:308
X-URL:https://www.montaury.com.br/index.php?option=com_dpcalendar&view=event&id=94&Itemid=201
X-COLOR:3366cc
X-SHOW-END-TIME:1
END:VEVENT
BEGIN:VEVENT
DTSTART;TZID=America/Sao_Paulo:20230919T080000
DTEND;TZID=America/Sao_Paulo:20230922T160000
UID:8BBF1447-FF26-4CBB-BC77-FFB248D6ED81
SUMMARY:Eduardo Machado participa do MARQUES 37th Annual Conference em Berlin, Alemanha
CREATED:20230815T184452Z
DTSTAMP:20230815T184452Z
DESCRIPTION:
X-ALT-DESC;FMTTYPE=text/html:
LAST-MODIFIED:20230724T203223Z
SEQUENCE:-1894349
X-ACCESS:1
X-HITS:391
X-URL:https://www.montaury.com.br/index.php?option=com_dpcalendar&view=event&id=95&Itemid=201
X-COLOR:3366cc
X-SHOW-END-TIME:1
END:VEVENT
BEGIN:VEVENT
DTSTART;TZID=America/Sao_Paulo:20230927T080000
DTEND;TZID=America/Sao_Paulo:20230929T160000
UID:D19BCEBD-884C-4F54-9E81-4E6EDF4C103A
SUMMARY:Eduardo Machado participa do GRUR Annual Meeting em Mannheim, Alemanha
CREATED:20230815T184452Z
DTSTAMP:20230815T184452Z
DESCRIPTION:
X-ALT-DESC;FMTTYPE=text/html:
LAST-MODIFIED:20230724T203223Z
SEQUENCE:-1894349
X-ACCESS:1
X-HITS:391
X-URL:https://www.montaury.com.br/index.php?option=com_dpcalendar&view=event&id=96&Itemid=201
X-COLOR:3366cc
X-SHOW-END-TIME:1
END:VEVENT
BEGIN:VEVENT
DTSTART;TZID=America/Sao_Paulo:20231001T080000
DTEND;TZID=America/Sao_Paulo:20231003T160000
UID:A70DDA6B-FDF3-4785-B6F6-786E64B6B5AB
SUMMARY:Luana, Stephany e Joana participam do INTA Trademark Administrators and Practitioners (TMAP) em Denver (CO), EUA
CREATED:20230915T184452Z
DTSTAMP:20230915T184452Z
DESCRIPTION:
X-ALT-DESC;FMTTYPE=text/html:
LAST-MODIFIED:20230724T203223Z
SEQUENCE:-4572749
X-ACCESS:1
X-HITS:614
X-URL:https://www.montaury.com.br/index.php?option=com_dpcalendar&view=event&id=97&Itemid=201
X-COLOR:3366cc
X-SHOW-END-TIME:1
END:VEVENT
BEGIN:VEVENT
DTSTART;TZID=America/Sao_Paulo:20231004T080000
DTEND;TZID=America/Sao_Paulo:20231007T160000
UID:318131B1-8D24-431A-879B-1681569AE799
SUMMARY:Eduardo Machado participa do PTMG Autumm Conference em Atenas, Grécia
CREATED:20230915T184452Z
DTSTAMP:20230915T184452Z
DESCRIPTION:
X-ALT-DESC;FMTTYPE=text/html:
LAST-MODIFIED:20230724T203223Z
SEQUENCE:-4572749
X-ACCESS:1
X-HITS:393
X-URL:https://www.montaury.com.br/index.php?option=com_dpcalendar&view=event&id=98&Itemid=201
X-COLOR:3366cc
X-SHOW-END-TIME:1
END:VEVENT
BEGIN:VEVENT
DTSTART;TZID=America/Sao_Paulo:20231015T080000
DTEND;TZID=America/Sao_Paulo:20231018T160000
UID:38875FD2-1ECE-419B-815C-87A68BBE2C37
SUMMARY:Pablo e Rodolfo participam do LES USA and CANADA Annual Meeting em Chicago (IL), EUA
CREATED:20230915T184452Z
DTSTAMP:20230915T184452Z
DESCRIPTION:
X-ALT-DESC;FMTTYPE=text/html:
LAST-MODIFIED:20230724T203223Z
SEQUENCE:-4572749
X-ACCESS:1
X-HITS:970
X-URL:https://www.montaury.com.br/index.php?option=com_dpcalendar&view=event&id=99&Itemid=201
X-COLOR:3366cc
X-SHOW-END-TIME:1
END:VEVENT
BEGIN:VEVENT
DTSTART;TZID=America/Sao_Paulo:20231018T080000
DTEND;TZID=America/Sao_Paulo:20231020T160000
UID:CCB17CB3-72F5-4839-A60D-D353FC60FC2A
SUMMARY:Marianna participa do Itechlaw - European Conference em Amsterdã, Países Baixos
CREATED:20230915T184452Z
DTSTAMP:20230915T184452Z
DESCRIPTION:
X-ALT-DESC;FMTTYPE=text/html:
LAST-MODIFIED:20230915T184214Z
SEQUENCE:-158
X-ACCESS:1
X-HITS:980
X-URL:https://www.montaury.com.br/index.php?option=com_dpcalendar&view=event&id=102&Itemid=201
X-COLOR:3366cc
X-SHOW-END-TIME:1
END:VEVENT
BEGIN:VEVENT
DTSTART;TZID=America/Sao_Paulo:20231019T080000
DTEND;TZID=America/Sao_Paulo:20231021T160000
UID:5701CA5B-5817-40F3-9F0C-734C6A6693DB
SUMMARY:Gabriela, Mônica e Rodolfo participam do AIPLA Annual Meeting em National Harbor (MD), EUA
CREATED:20230915T184452Z
DTSTAMP:20230915T184452Z
DESCRIPTION:
X-ALT-DESC;FMTTYPE=text/html:
LAST-MODIFIED:20230724T203223Z
SEQUENCE:-4572749
X-ACCESS:1
X-HITS:1038
X-URL:https://www.montaury.com.br/index.php?option=com_dpcalendar&view=event&id=100&Itemid=201
X-COLOR:3366cc
X-SHOW-END-TIME:1
END:VEVENT
BEGIN:VEVENT
DTSTART;TZID=America/Sao_Paulo:20231022T080000
DTEND;TZID=America/Sao_Paulo:20231025T160000
UID:A38FE506-126A-43B6-A189-42C7FCF66272
SUMMARY:Claudia e Joana participam do AIPPI World Congress em Istambul, Turquia
CREATED:20230915T184452Z
DTSTAMP:20230915T184452Z
DESCRIPTION:
X-ALT-DESC;FMTTYPE=text/html:
LAST-MODIFIED:20230724T203223Z
SEQUENCE:-4572749
X-ACCESS:1
X-HITS:1006
X-URL:https://www.montaury.com.br/index.php?option=com_dpcalendar&view=event&id=101&Itemid=201
X-COLOR:3366cc
X-SHOW-END-TIME:1
END:VEVENT
BEGIN:VEVENT
DTSTART;TZID=America/Sao_Paulo:20231103T080000
DTEND;TZID=America/Sao_Paulo:20231107T160000
UID:A9C491B0-EAC0-4310-9307-353552CD70D2
SUMMARY:Clarissa e Rodolfo participam do APAA 20th General Assembly and 74th & 75th Council Meetings em Singapore
CREATED:20230915T184452Z
DTSTAMP:20230915T184452Z
DESCRIPTION:
X-ALT-DESC;FMTTYPE=text/html:
LAST-MODIFIED:20230724T203223Z
SEQUENCE:-4572749
X-ACCESS:1
X-HITS:437
X-URL:https://www.montaury.com.br/index.php?option=com_dpcalendar&view=event&id=103&Itemid=201
X-COLOR:3366cc
X-SHOW-END-TIME:1
END:VEVENT
BEGIN:VEVENT
DTSTART;TZID=America/Sao_Paulo:20231114T080000
DTEND;TZID=America/Sao_Paulo:20231117T160000
UID:13C78551-2ED0-4FAF-8F7F-05112A64DEFF
SUMMARY:Joana, Eduardo e Yuri participam do INTA Leadership Meeting em Houston, Texas (EUA)
CREATED:20230915T184452Z
DTSTAMP:20230915T184452Z
DESCRIPTION:
X-ALT-DESC;FMTTYPE=text/html:
LAST-MODIFIED:20231017T134614Z
SEQUENCE:2746882
X-ACCESS:1
X-HITS:422
X-URL:https://www.montaury.com.br/index.php?option=com_dpcalendar&view=event&id=104&Itemid=201
X-COLOR:3366cc
X-SHOW-END-TIME:1
END:VEVENT
BEGIN:VEVENT
DTSTART;TZID=America/Sao_Paulo:20231121T080000
DTEND;TZID=America/Sao_Paulo:20231121T160000
UID:15448DB2-5D12-4DBB-987F-3B8722547621
SUMMARY:Gabriela Salerno participa do LSPN (Life Sciences Patent Network) Europe em London, Inglaterra
CREATED:20230915T184452Z
DTSTAMP:20230915T184452Z
DESCRIPTION:
X-ALT-DESC;FMTTYPE=text/html:
LAST-MODIFIED:20231017T134614Z
SEQUENCE:2746882
X-ACCESS:1
X-HITS:517
X-URL:https://www.montaury.com.br/index.php?option=com_dpcalendar&view=event&id=105&Itemid=201
X-COLOR:3366cc
X-SHOW-END-TIME:1
END:VEVENT
BEGIN:VEVENT
DTSTART;TZID=America/Sao_Paulo:20240305T080000
DTEND;TZID=America/Sao_Paulo:20240306T160000
UID:1ED2A6BD-B2E3-4221-B0CB-DF2040BDDAC1
SUMMARY:Ana Paula Affonso Brito e Gabriela Salerno participam do 13th Annual Pharma IPR Conference em Mumbai, Índia
CREATED:20240215T184452Z
DTSTAMP:20240215T184452Z
DESCRIPTION:
X-ALT-DESC;FMTTYPE=text/html:
LAST-MODIFIED:20240215T192658Z
SEQUENCE:2526
X-ACCESS:1
X-HITS:410
X-URL:https://www.montaury.com.br/index.php?option=com_dpcalendar&view=event&id=106&Itemid=201
X-COLOR:3366cc
X-SHOW-END-TIME:1
END:VEVENT
BEGIN:VEVENT
DTSTART;TZID=America/Sao_Paulo:20240307T080000
DTEND;TZID=America/Sao_Paulo:20240308T160000
UID:D5B975E4-F200-4906-8EDE-51341B275423
SUMMARY:Eduardo Machado participa do MARQUES Spring Team Meeting em Amsterdam, Países Baixos
CREATED:20240215T184452Z
DTSTAMP:20240215T184452Z
DESCRIPTION:
X-ALT-DESC;FMTTYPE=text/html:
LAST-MODIFIED:20240215T193009Z
SEQUENCE:2717
X-ACCESS:1
X-HITS:398
X-URL:https://www.montaury.com.br/index.php?option=com_dpcalendar&view=event&id=107&Itemid=201
X-COLOR:3366cc
X-SHOW-END-TIME:1
END:VEVENT
BEGIN:VEVENT
DTSTART;TZID=America/Sao_Paulo:20240314T080000
DTEND;TZID=America/Sao_Paulo:20240317T160000
UID:67D5B4F5-683A-49B1-B7AE-6EB50167F167
SUMMARY:Diana Vieira de Mello participa do ABAPISUL 19º Encontro Regional em Gramado, Rio Grande do Sul
CREATED:20240215T184452Z
DTSTAMP:20240215T184452Z
DESCRIPTION:
X-ALT-DESC;FMTTYPE=text/html:
LAST-MODIFIED:20240215T193600Z
SEQUENCE:3068
X-ACCESS:1
X-HITS:451
X-URL:https://www.montaury.com.br/index.php?option=com_dpcalendar&view=event&id=108&Itemid=201
X-COLOR:3366cc
X-SHOW-END-TIME:1
END:VEVENT
BEGIN:VEVENT
DTSTART;TZID=America/Sao_Paulo:20240318T080000
DTEND;TZID=America/Sao_Paulo:20240320T160000
UID:2D59D665-212B-44E1-9259-F2E5EAF95AE4
SUMMARY:Ricardo Vieria de Mello, David Fernando Rodrigues, Rodolfo Martinez participam do ASPI - XXIII Congresso Internacional em São Paulo, SP
CREATED:20240215T184452Z
DTSTAMP:20240215T184452Z
DESCRIPTION:
X-ALT-DESC;FMTTYPE=text/html:
LAST-MODIFIED:20240215T193930Z
SEQUENCE:3278
X-ACCESS:1
X-HITS:374
X-URL:https://www.montaury.com.br/index.php?option=com_dpcalendar&view=event&id=109&Itemid=201
X-COLOR:3366cc
X-SHOW-END-TIME:1
END:VEVENT
BEGIN:VEVENT
DTSTART;TZID=America/Sao_Paulo:20240325T080000
DTEND;TZID=America/Sao_Paulo:20240326T160000
UID:9F292CA4-39F9-4EF7-95CB-5C52351E00E3
SUMMARY:Eduardo Machado participa do PTMG Spring Conference em Valencia, Espanha
CREATED:20240215T184452Z
DTSTAMP:20240215T184452Z
DESCRIPTION:
X-ALT-DESC;FMTTYPE=text/html:
LAST-MODIFIED:20240215T194440Z
SEQUENCE:3588
X-ACCESS:1
X-HITS:524
X-URL:https://www.montaury.com.br/index.php?option=com_dpcalendar&view=event&id=110&Itemid=201
X-COLOR:3366cc
X-SHOW-END-TIME:1
END:VEVENT
BEGIN:VEVENT
DTSTART;TZID=America/Sao_Paulo:20240508T080000
DTEND;TZID=America/Sao_Paulo:20240509T160000
UID:725C6977-99B7-4DC2-81B7-CE11E3545849
SUMMARY:Ana Paula Brito e Yuri Machado participam do RPX Conference 2024
CREATED:20240215T184452Z
DTSTAMP:20240215T184452Z
DESCRIPTION:
X-ALT-DESC;FMTTYPE=text/html:
LAST-MODIFIED:20240416T175848Z
SEQUENCE:5267636
X-ACCESS:1
X-HITS:407
X-URL:https://www.montaury.com.br/index.php?option=com_dpcalendar&view=event&id=111&Itemid=201
X-COLOR:3366cc
X-SHOW-END-TIME:1
END:VEVENT
BEGIN:VEVENT
DTSTART;TZID=America/Sao_Paulo:20240515T080000
DTEND;TZID=America/Sao_Paulo:20240517T160000
UID:2D56778C-2480-4589-BC50-7BB6BBA7E454
SUMMARY:Yuri Machado participa do IACC Annual Conference 2024 em Orlando, EUA
CREATED:20240215T184452Z
DTSTAMP:20240215T184452Z
DESCRIPTION:
X-ALT-DESC;FMTTYPE=text/html:
LAST-MODIFIED:20240416T175756Z
SEQUENCE:5267584
X-ACCESS:1
X-HITS:731
X-URL:https://www.montaury.com.br/index.php?option=com_dpcalendar&view=event&id=112&Itemid=201
X-COLOR:3366cc
X-SHOW-END-TIME:1
END:VEVENT
BEGIN:VEVENT
DTSTART;TZID=America/Sao_Paulo:20240516T080000
DTEND;TZID=America/Sao_Paulo:20240518T160000
UID:43305278-BB47-496A-A5E5-A88660269CB7
SUMMARY:Rodolfo Martinez participa do AIPLA Spring Meeting em Austin, EUA
CREATED:20240215T184452Z
DTSTAMP:20240215T184452Z
DESCRIPTION:
X-ALT-DESC;FMTTYPE=text/html:
LAST-MODIFIED:20240416T180026Z
SEQUENCE:5267734
X-ACCESS:1
X-HITS:460
X-URL:https://www.montaury.com.br/index.php?option=com_dpcalendar&view=event&id=113&Itemid=201
X-COLOR:3366cc
X-SHOW-END-TIME:1
END:VEVENT
BEGIN:VEVENT
DTSTART;TZID=America/Sao_Paulo:20240518T080000
DTEND;TZID=America/Sao_Paulo:20240522T160000
UID:1D6158E8-B1FB-4213-B682-D0506143DE5B
SUMMARY:Luiz Edgard, Eduardo Machado, Joana Siqueira, Clarissa Jaegger, Yuri Machado, Claudia Zeraik e Rodolfo Martinez participam do INTA Annual Meeting em Atlanta, EUA
CREATED:20240215T184452Z
DTSTAMP:20240215T184452Z
DESCRIPTION:
X-ALT-DESC;FMTTYPE=text/html:
LAST-MODIFIED:20240416T180439Z
SEQUENCE:5267987
X-ACCESS:1
X-HITS:497
X-URL:https://www.montaury.com.br/index.php?option=com_dpcalendar&view=event&id=114&Itemid=201
X-COLOR:3366cc
X-SHOW-END-TIME:1
END:VEVENT
BEGIN:VEVENT
DTSTART;TZID=America/Sao_Paulo:20240523T080000
DTEND;TZID=America/Sao_Paulo:20240523T160000
UID:2E601804-09C8-4FAF-B830-393A69F13165
SUMMARY:Luiz Edgard Montaury Pimenta participa do GLIPA Annual Meeting em Atlanta, EUA
CREATED:20240215T184452Z
DTSTAMP:20240215T184452Z
DESCRIPTION:
X-ALT-DESC;FMTTYPE=text/html:
LAST-MODIFIED:20240416T180914Z
SEQUENCE:5268262
X-ACCESS:1
X-HITS:480
X-URL:https://www.montaury.com.br/index.php?option=com_dpcalendar&view=event&id=115&Itemid=201
X-COLOR:3366cc
X-SHOW-END-TIME:1
END:VEVENT
BEGIN:VEVENT
DTSTART;TZID=America/Sao_Paulo:20240602T080000
DTEND;TZID=America/Sao_Paulo:20240604T160000
UID:4A3490AE-FB98-47E0-B7ED-5764530CFF2D
SUMMARY:Joana Siqueira participa do ASIPI Seminário na Guatemala
CREATED:20240516T184452Z
DTSTAMP:20240516T184452Z
DESCRIPTION:
X-ALT-DESC;FMTTYPE=text/html:
LAST-MODIFIED:20240516T115634Z
SEQUENCE:-24498
X-ACCESS:1
X-HITS:292
X-URL:https://www.montaury.com.br/index.php?option=com_dpcalendar&view=event&id=116&Itemid=201
X-COLOR:3366cc
X-SHOW-END-TIME:1
END:VEVENT
BEGIN:VEVENT
DTSTART;TZID=America/Sao_Paulo:20240603T080000
DTEND;TZID=America/Sao_Paulo:20240606T160000
UID:D37161E9-A784-455B-960C-EB44DF2E0D80
SUMMARY:Gabriela Salerno e Mônica Gurvitz participam do BIO International Convention em San Diego, EUA
CREATED:20240516T184452Z
DTSTAMP:20240516T184452Z
DESCRIPTION:
X-ALT-DESC;FMTTYPE=text/html:
LAST-MODIFIED:20240416T180914Z
SEQUENCE:-2594138
X-ACCESS:1
X-HITS:478
X-URL:https://www.montaury.com.br/index.php?option=com_dpcalendar&view=event&id=117&Itemid=201
X-COLOR:3366cc
X-SHOW-END-TIME:1
END:VEVENT
BEGIN:VEVENT
DTSTART;TZID=America/Sao_Paulo:20240619T080000
DTEND;TZID=America/Sao_Paulo:20240621T160000
UID:253A23E4-86CB-4889-9B59-8736B113E2F5
SUMMARY:Joana Siqueira participa do ECTA 42th Annual Conference na Antuérpia
CREATED:20240516T184452Z
DTSTAMP:20240516T184452Z
DESCRIPTION:
X-ALT-DESC;FMTTYPE=text/html:
LAST-MODIFIED:20240516T115634Z
SEQUENCE:-24498
X-ACCESS:1
X-HITS:1006
X-URL:https://www.montaury.com.br/index.php?option=com_dpcalendar&view=event&id=118&Itemid=201
X-COLOR:3366cc
X-SHOW-END-TIME:1
END:VEVENT
BEGIN:VEVENT
DTSTART;TZID=America/Sao_Paulo:20250608T080000
DTEND;TZID=America/Sao_Paulo:20250610T160000
UID:840779DD-18CA-4AA9-B3F6-3836A134ACD2
SUMMARY:ASIPI Seminário, em San Salvador, com participação de Joana Siqueira
CREATED:20250610T184452Z
DTSTAMP:20250610T184452Z
DESCRIPTION:
X-ALT-DESC;FMTTYPE=text/html:
LAST-MODIFIED:20250610T200038Z
SEQUENCE:4546
X-ACCESS:1
X-HITS:4
X-URL:https://www.montaury.com.br/index.php?option=com_dpcalendar&view=event&id=119&Itemid=201
X-COLOR:3366cc
X-SHOW-END-TIME:1
END:VEVENT
BEGIN:VEVENT
DTSTART;TZID=America/Sao_Paulo:20250616T080000
DTEND;TZID=America/Sao_Paulo:20250619T160000
UID:202B0700-B3F6-49D3-87BA-55EC2298CB8C
SUMMARY:BIO International Convention, em Boston, com participações de Mônica Gurvitz e Maria Eduarda Junqueira
CREATED:20250610T184452Z
DTSTAMP:20250610T184452Z
DESCRIPTION:
X-ALT-DESC;FMTTYPE=text/html:
LAST-MODIFIED:20250610T200354Z
SEQUENCE:4742
X-ACCESS:1
X-HITS:105
X-URL:https://www.montaury.com.br/index.php?option=com_dpcalendar&view=event&id=120&Itemid=201
X-COLOR:3366cc
X-SHOW-END-TIME:1
END:VEVENT
BEGIN:VEVENT
DTSTART;TZID=America/Sao_Paulo:20250618T080000
DTEND;TZID=America/Sao_Paulo:20250621T160000
UID:9E23EE0B-51C9-467A-A913-B1CB976D7ED0
SUMMARY:ECTA 43rd Annual Conference, em Berlim, com participação de Joana Siqueira
CREATED:20250610T184452Z
DTSTAMP:20250610T184452Z
DESCRIPTION:
X-ALT-DESC;FMTTYPE=text/html:
LAST-MODIFIED:20250610T200407Z
SEQUENCE:4755
X-ACCESS:1
X-HITS:119
X-URL:https://www.montaury.com.br/index.php?option=com_dpcalendar&view=event&id=121&Itemid=201
X-COLOR:3366cc
X-SHOW-END-TIME:1
END:VEVENT
BEGIN:VEVENT
DTSTART;TZID=America/Sao_Paulo:20250620T080000
DTEND;TZID=America/Sao_Paulo:20250704T160000
UID:D2030FF6-B9D6-4DC7-AA59-A97B1941214F
SUMMARY:Viagem ao Japão e Coreia, com participações de Luiz Edgard Montaury Pimenta, Gabriela Salerno e Ana Paula Affonso Brito
CREATED:20250610T184452Z
DTSTAMP:20250610T184452Z
DESCRIPTION:
X-ALT-DESC;FMTTYPE=text/html:
LAST-MODIFIED:20250610T200424Z
SEQUENCE:4772
X-ACCESS:1
X-HITS:1373
X-URL:https://www.montaury.com.br/index.php?option=com_dpcalendar&view=event&id=122&Itemid=201
X-COLOR:3366cc
X-SHOW-END-TIME:1
END:VEVENT
END:VCALENDAR